Workbook

Sheet Stundenplan
A1: Stundenplan ab :
A2: Schule:
A3: Name:
A4: Schulbetriebspauschale: | E4: voll
A5: Montag | F5: Dienstag | K5: Mittwoch
A6: Tätigkeit | B6: Start | C6: Ende | D6: Stunden | F6: Tätigkeit | G6: Start | H6: Ende | I6: Stunden | K6: Tätigkeit | L6: Start | M6: Ende | N6: Stunden
D7: =C7-B7 -> 0 | I7: =H7-G7 -> 0 | N7: =M7-L7 -> 0
D8: =C8-B8 -> 0 | E8: =IF(AND($C7<>"",$B8<>"",$C7>$B8),"Übers.","") | I8: =H8-G8 -> 0 | J8: =IF(AND($H7<>"",$G8<>"",$H7>$G8),"Übers.","") | N8: =M8-L8 -> 0
D9: =C9-B9 -> 0 | E9: =IF(AND($C8<>"",$B9<>"",$C8>$B9)," Übers.","") | I9: =H9-G9 -> 0 | J9: =IF(AND($H8<>"",$G9<>"",$H8>$G9),"Übers.","") | N9: =M9-L9 -> 0 | O9: =IF(AND($M8<>"",$L9<>"",$M8>$L9),"Übers.","")
D10: =C10-B10 -> 0 | E10: =IF(AND($C9<>"",$B10<>"",$C9>$B10)," Übers.","") | I10: =H10-G10 -> 0 | J10: =IF(AND($H9<>"",$G10<>"",$H9>$G10),"Übers.","") | N10: =M10-L10 -> 0 | O10: =IF(AND($M9<>"",$L10<>"",$M9>$L10),"Übers.","")
D11: =C11-B11 -> 0 | E11: =IF(AND($C10<>"",$B11<>"",$C10>$B11)," Übers.","") | I11: =H11-G11 -> 0 | J11: =IF(AND($H10<>"",$G11<>"",$H10>$G11),"Übers.","") | N11: =M11-L11 -> 0 | O11: =IF(AND($M10<>"",$L11<>"",$M10>$L11),"Übers.","")
D12: =C12-B12 -> 0 | E12: =IF(AND($C11<>"",$B12<>"",$C11>$B12)," Übers.","") | I12: =H12-G12 -> 0 | J12: =IF(AND($H11<>"",$G12<>"",$H11>$G12),"Übers.","") | N12: =M12-L12 -> 0 | O12: =IF(AND($M11<>"",$L12<>"",$M11>$L12),"Übers.","")
D13: =C13-B13 -> 0 | E13: =IF(AND($C12<>"",$B13<>"",$C12>$B13)," Übers.","") | I13: =H13-G13 -> 0 | J13: =IF(AND($H12<>"",$G13<>"",$H12>$G13),"Übers.","") | N13: =M13-L13 -> 0 | O13: =IF(AND($M12<>"",$L13<>"",$M12>$L13),"Übers.","")
D14: =C14-B14 -> 0 | E14: =IF(AND($C13<>"",$B14<>"",$C13>$B14)," Übers.","") | I14: =H14-G14 -> 0 | J14: =IF(AND($H13<>"",$G14<>"",$H13>$G14),"Übers.","") | N14: =M14-L14 -> 0 | O14: =IF(AND($M13<>"",$L14<>"",$M13>$L14),"Übers.","")
B15: =SUMIF(A7:A14,Tabelle1!A6,D7:D14)+SUMIF(A7:A14,Tabelle1!A10,D7:D14) -> 0 | C15: =SUMIF(A7:A14,Tabelle1!A8,D7:D14) -> 0 | D15: =SUMIF(A7:A14,"<>Pause",D7:D14) -> 0 | E15: =IF(SUM($D$7:$D$14)>TIME(6,0,0),IF(SUMIFS($D$7:$D$14,$A$7:$A$14,"Pause")+SUMIFS($D$7:$D$14,$A$7:$A$14,"bez. Pause")<TIME(0,30,0),"PF",""),"") | G15: =SUMIF(F7:F14,Tabelle1!A6,I7:I14)+SUMIF(F7:F14,Tabelle1!A10,I7:I14) -> 0 | H15: =SUMIF(F7:F14,Tabelle1!A8,I7:I14) -> 0 | I15: =SUMIF(F7:F14,"<>Pause",I7:I14) -> 0 | J15: =IF(SUM($I$7:$I$14)>TIME(6,0,0),IF(SUMIFS($I$7:$I$14,$F$7:$F$14,"Pause")+SUMIFS($I$7:$I$14,$F$7:$F$14,"bez. Pause")<TIME(0,30,0),"PF",""),"") | L15: =SUMIF(K7:K14,Tabelle1!A6,N7:N14)+SUMIF(K7:K14,Tabelle1!A10,N7:N14) -> 0 | M15: =SUMIF(K7:K14,Tabelle1!A8,N7:N14) -> 0 | N15: =SUMIF(K7:K14,"<>Pause",N7:N14) -> 0 | O15: =IF(SUM($N$7:$N$14)>TIME(6,0,0),IF(SUMIFS($N$7:$N$14,$K$7:$K$14,"Pause")+SUMIFS($N$7:$N$14,$K$7:$K$14,"bez. Pause")<TIME(0,30,0),"PF",""),"")
A16: Donnerstag | F16: Freitag | L16: Zusammenfassung /Kontrolle
A17: Tätigkeit | B17: Start | C17: Ende | D17: Stunden | F17: Tätigkeit | G17: Start | H17: Ende | I17: Stunden | L17: Summe SA: | N17: =SUMIF(A7:A14,Tabelle1!A6,D7:D14)+SUMIF(F7:F14,Tabelle1!A6,Stundenplan!I7:I14)+SUMIF(K7:K14,Tabelle1!A6,Stundenplan!N7:N14)+SUMIF(A18:A25,Tabelle1!A6,Stundenplan!D18:D25)+SUMIF(Stundenplan!F18:F25,Tabelle1!A6,Stundenplan!I18:I25)+SUMIF(A7:A14,Tabelle1!A10,D7:D14)+SUMIF(A18:A25,Tabelle1!A10,D18:D25)+SUMIF(F18:F25,Tabelle1!A10,I18:I25)+SUMIF(F7:F14,Tabelle1!A10,I7:I14)+SUMIF(K7:K14,Tabelle1!A10,N7:N14) -> 0 | O17: =IF(N17="","",IF(MOD(ROUND(N17*1440,0),30)=0,"OK","Info: nur volle oder halbe Stunden")) -> OK
D18: =C18-B18 -> 0 | I18: =H18-G18 -> 0 | L18: Summe EA: | N18: =SUMIF(A7:A14,Tabelle1!A7,D7:D14)+SUMIF(F7:F14,Tabelle1!A7,Stundenplan!I7:I14)+SUMIF(K7:K14,Tabelle1!A7,Stundenplan!N7:N14)+SUMIF(A18:A25,Tabelle1!A7,Stundenplan!D18:D25)+SUMIF(Stundenplan!F18:F25,Tabelle1!A7,Stundenplan!I18:I25) -> 0 | O18: =IF(N18 > N17*0.2, "zu viele EA eingetragen", "OK") -> OK
D19: =C19-B19 -> 0 | E19: =IF(AND($C18<>"",$B19<>"",$C18>$B19),"Übers.","") | I19: =H19-G19 -> 0 | J19: =IF(AND($H18<>"",$G19<>"",$H18>$G19),"Übers.","") | L19: Summe FZ: | N19: =SUMIF(A7:A14,Tabelle1!A8,D7:D14)+SUMIF(F7:F14,Tabelle1!A8,Stundenplan!I7:I14)+SUMIF(K7:K14,Tabelle1!A8,Stundenplan!N7:N14)+SUMIF(A18:A25,Tabelle1!A8,Stundenplan!D18:D25)+SUMIF(Stundenplan!F18:F25,Tabelle1!A8,Stundenplan!I18:I25) -> 0
D20: =C20-B20 -> 0 | E20: =IF(AND($C19<>"",$B20<>"",$C19>$B20),"Übers.","") | I20: =H20-G20 -> 0 | J20: =IF(AND($H19<>"",$G20<>"",$H19>$G20),"Übers.","") | L20: Summe AE: | N20: =SUMIF(A7:A14,Tabelle1!A9,D7:D14)+SUMIF(F7:F14,Tabelle1!A9,Stundenplan!I7:I14)+SUMIF(K7:K14,Tabelle1!A9,Stundenplan!N7:N14)+SUMIF(A18:A25,Tabelle1!A9,Stundenplan!D18:D25)+SUMIF(Stundenplan!F18:F25,Tabelle1!A9,Stundenplan!I18:I25) -> 0
D21: =C21-B21 -> 0 | E21: =IF(AND($C20<>"",$B21<>"",$C20>$B21),"Übers.","") | I21: =H21-G21 -> 0 | J21: =IF(AND($H20<>"",$G21<>"",$H20>$G21),"Übers.","")
D22: =C22-B22 -> 0 | E22: =IF(AND($C21<>"",$B22<>"",$C21>$B22),"Übers.","") | I22: =H22-G22 -> 0 | J22: =IF(AND($H21<>"",$G22<>"",$H21>$G22),"Übers.","")
D23: =C23-B23 -> 0 | E23: =IF(AND($C22<>"",$B23<>"",$C22>$B23),"Übers.","") | I23: =H23-G23 -> 0 | J23: =IF(AND($H22<>"",$G23<>"",$H22>$G23),"Übers.","") | L23: Übers. | M23: ACHTUNG! Es gibt Überschneidungen
D24: =C24-B24 -> 0 | E24: =IF(AND($C23<>"",$B24<>"",$C23>$B24),"Übers.","") | I24: =H24-G24 -> 0 | J24: =IF(AND($H23<>"",$G24<>"",$H23>$G24),"Übers.","") | L24: PF | M24: ACHTUNG! PAUSE fehlt
D25: =C25-B25 -> 0 | E25: =IF(AND($C24<>"",$B25<>"",$C24>$B25),"Übers.","") | I25: =H25-G25 -> 0 | J25: =IF(AND($H24<>"",$G25<>"",$H24>$G25),"Übers.","")
B26: =SUMIF(A18:A25,Tabelle1!A6,D18:D25)+SUMIF(A18:A25,Tabelle1!A10,D18:D25) -> 0 | C26: =SUMIF(A18:A25,Tabelle1!A8,D18:D25) -> 0 | D26: =SUMIF(A18:A25,"<>Pause",D18:D25) -> 0 | E26: =IF(SUM($D$18:$D$25)>TIME(6,0,0),IF(SUMIFS($D$18:$D$25,$A$18:$A$25,"Pause")+SUMIFS($D$18:$D$25,$A$18:$A$25,"bez. Pause")<TIME(0,30,0),"PF",""),"") | G26: =SUMIF(F18:F25,Tabelle1!A6,I18:I25)+SUMIF(F18:F25,Tabelle1!A10,I18:I25) -> 0 | H26: =SUMIF(F18:F25,Tabelle1!A8,I18:I25) -> 0 | I26: =SUMIF(F18:F25,"<>Pause",I18:I25) -> 0 | J26: =IF(SUM($I$18:$I$25)>TIME(6,0,0),IF(SUMIFS($I$18:$I$25,$F$18:$F$25,"Pause")+SUMIFS($I$18:$I$25,$F$18:$F$25,"bez. Pause")<TIME(0,30,0),"PF",""),"")
A28: Regel: keine Überschneidungen der Endzeit mit der neuen Anfangszeit
A29: Regel: Wenn mehr als 6 Stunden Arbeitszeit muss mind. eine Pause eingehalten werden in Summe 30 Minuten.
A30: Regel: FZ Minutengenau
A31: Regel: | B31: Keine Überschneidungen der Anfangszeiten
A32: Regel: | B32: EA dürfen nur 20% der SA Stunden sein, die Betriebspauschale ca. 2 Stunden muss selbst gebucht werden.
A33: Regel: | B33: SA Stunden müssen in Summe volle oder halbe Stunden sein
A34: =D3 -> 0 | C34: SA | F34: FZ
C35: Dezimal | D35: Soll plus EA | E35: FINK | F35: FZ FINK
A36: Montag | C36: =B15*24 -> 0 | D36: =C36+(C36*20%) -> 0 | E36: =D36/24 -> 0 | F36: =C15 -> 0
A37: Dienstag | C37: =G15*24 -> 0 | D37: =C37+(C37*20%) -> 0 | E37: =D37/24 -> 0 | F37: =H15 -> 0
A38: Mittwoch | C38: =L15*24 -> 0 | D38: =C38+(C38*20%) -> 0 | E38: =D38/24 -> 0 | F38: =M15 -> 0
A39: Donnerstag | C39: =B26*24 -> 0 | D39: =C39+(C39*20%) -> 0 | E39: =D39/24 -> 0 | F39: =C26 -> 0
A40: Freitag | C40: =G26*24 -> 0 | D40: =C40+(C40*20%) -> 0 | E40: =D40/24 -> 0 | F40: =H26 -> 0

Sheet Beispiel mit Erklärung Fehler  
A1: Stundenplan ab : | D1: 46266
A2: Schule: | D2: Muster Schule
A3: Name: | D3: Mustermann
A4: Schulbetriebspauschale: | E4: voll
A5: Montag | F5: Dienstag | K5: Mittwoch
A6: Tätigkeit | B6: Start | C6: Ende | D6: Stunden | F6: Tätigkeit | G6: Start | H6: Ende | I6: Stunden | K6: Tätigkeit | L6: Start | M6: Ende | N6: Stunden
A7: EA | B7: 0.32291667 | C7: 0.33333333 | D7: =C7-B7 -> 0.010416667 | F7: EA | G7: 0.30555556 | H7: 0.32638889 | I7: =H7-G7 -> 0.020833333 | K7: EA | L7: 0.30555556 | M7: 0.32638889 | N7: =M7-L7 -> 0.020833333
A8: SA | B8: 0.33333333 | C8: 0.50694444 | D8: =C8-B8 -> 0.17361111 | E8: =IF(AND($C7<>"",$B8<>"",$C7>$B8),"Übers.","") | F8: SA | G8: 0.32638889 | H8: 0.48611111 | I8: =H8-G8 -> 0.15972222 | J8: =IF(AND($H7<>"",$G8<>"",$H7>$G8),"Übers.","") | K8: SA | L8: 0.32638889 | M8: 0.40972222 | N8: =M8-L8 -> 0.083333333
A9: EA | B9: 0.48611111 | C9: 0.5 | D9: =C9-B9 -> 0.013888889 | E9: =IF(AND($C8<>"",$B9<>"",$C8>$B9)," Übers.","") -> Übers. | F9: FZ | G9: 0.5 | H9: 0.66666667 | I9: =H9-G9 -> 0.16666667 | J9: =IF(AND($H8<>"",$G9<>"",$H8>$G9),"Übers.","") | K9: bez. Pause | L9: 0.40972222 | M9: 0.42361111 | N9: =M9-L9 -> 0.013888889 | O9: =IF(AND($M8<>"",$L9<>"",$M8>$L9),"Übers.","")
A10: Pause | B10: 0.5 | C10: 0.54166667 | D10: =C10-B10 -> 0.041666667 | E10: =IF(AND($C9<>"",$B10<>"",$C9>$B10)," Übers.","") | F10: Pause | G10: 0.48611111 | H10: 0.5 | I10: =H10-G10 -> 0.013888889 | K10: AE | L10: 0.42361111 | M10: 0.58333333 | N10: =M10-L10 -> 0.15972222 | O10: =IF(AND($M9<>"",$L10<>"",$M9>$L10),"Übers.","")
A11: FZ | B11: 0.54166667 | C11: 0.58333333 | D11: =C11-B11 -> 0.041666667 | E11: =IF(AND($C10<>"",$B11<>"",$C10>$B11)," Übers.","") | I11: =H11-G11 -> 0 | J11: =IF(AND($H10<>"",$G11<>"",$H10>$G11),"Übers.","") | K11: SA | N11: =M11-L11 -> 0 | O11: =IF(AND($M10<>"",$L11<>"",$M10>$L11),"Übers.","")
D12: =C12-B12 -> 0 | E12: =IF(AND($C11<>"",$B12<>"",$C11>$B12)," Übers.","") | I12: =H12-G12 -> 0 | J12: =IF(AND($H11<>"",$G12<>"",$H11>$G12),"Übers.","") | N12: =M12-L12 -> 0 | O12: =IF(AND($M11<>"",$L12<>"",$M11>$L12),"Übers.","")
D13: =C13-B13 -> 0 | E13: =IF(AND($C12<>"",$B13<>"",$C12>$B13)," Übers.","") | I13: =H13-G13 -> 0 | J13: =IF(AND($H12<>"",$G13<>"",$H12>$G13),"Übers.","") | N13: =M13-L13 -> 0 | O13: =IF(AND($M12<>"",$L13<>"",$M12>$L13),"Übers.","")
D14: =C14-B14 -> 0 | E14: =IF(AND($C13<>"",$B14<>"",$C13>$B14)," Übers.","") | I14: =H14-G14 -> 0 | J14: =IF(AND($H13<>"",$G14<>"",$H13>$G14),"Übers.","") | N14: =M14-L14 -> 0 | O14: =IF(AND($M13<>"",$L14<>"",$M13>$L14),"Übers.","")
B15: =SUMIF(A7:A14,Tabelle1!A6,D7:D14) -> 0.17361111 | C15: =SUMIF(A7:A14,Tabelle1!A8,D7:D14) -> 0.041666667 | D15: =SUMIF(A7:A14,"<>Pause",D7:D14)-SUMIF(A7:A14,"bez. Pause",D7:D14) -> 0.23958333 | E15: =IF(SUM($D$7:$D$14)>TIME(6,0,0),IF(SUMIFS($D$7:$D$14,$A$7:$A$14,"Pause")+SUMIFS($D$7:$D$14,$A$7:$A$14,"bez. Pause")<TIME(0,30,0),"PF",""),"") | G15: =SUMIF(F7:F14,Tabelle1!A6,I7:I14) -> 0.15972222 | H15: =SUMIF(F7:F14,Tabelle1!A8,I7:I14) -> 0.16666667 | I15: =SUMIF(F7:F14,"<>Pause",I7:I14)-SUMIF(F7:F14,"bez. Pause",I7:I14) -> 0.34722222 | J15: =IF(SUM($I$7:$I$14)>TIME(6,0,0),IF(SUMIFS($I$7:$I$14,$F$7:$F$14,"Pause")+SUMIFS($I$7:$I$14,$F$7:$F$14,"bez. Pause")<TIME(0,30,0),"PF",""),"") -> PF | L15: =SUMIF(K7:K14,Tabelle1!A6,N7:N14) -> 0.083333333 | M15: =SUMIF(K7:K14,Tabelle1!A8,N7:N14) -> 0 | N15: =SUMIF(K7:K14,"<>Pause",N7:N14)-SUMIF(K7:K14,"bez. Pause",N7:N14) -> 0.26388889 | O15: =IF(SUM($N$7:$N$14)>TIME(6,0,0),IF(SUMIFS($N$7:$N$14,$K$7:$K$14,"Pause")+SUMIFS($N$7:$N$14,$K$7:$K$14,"bez. Pause")<TIME(0,30,0),"PF",""),"") -> PF
A16: Donnerstag | F16: Freitag
A17: Tätigkeit | B17: Start | C17: Ende | D17: Stunden | F17: Tätigkeit | G17: Start | H17: Ende | I17: Stunden | L17: Summe SA: | N17: 0.72222222 | O17: =IF(MOD(N17*48,1)<>0,"nur volle oder halbe Stunden bitte anpassen","") -> nur volle oder halbe Stunden bitte anpassen
A18: EA | B18: 0.3125 | C18: 0.33333333 | D18: =C18-B18 -> 0.020833333 | F18: EA | G18: 0.3125 | H18: 0.33333333 | I18: =H18-G18 -> 0.020833333 | L18: Summe EA: | N18: 0.23263889 | O18: =IF(N18 > N17*0.2, "zu viele EA eingetragen", "OK") -> zu viele EA eingetragen
A19: SA | B19: 0.33333333 | C19: 0.48611111 | D19: =C19-B19 -> 0.15277778 | E19: =IF(AND($C18<>"",$B19<>"",$C18>$B19),"Übers.","") | F19: SA | G19: 0.33333333 | H19: 0.48611111 | I19: =H19-G19 -> 0.15277778 | J19: =IF(AND($H18<>"",$G19<>"",$H18>$G19),"Übers.","") | L19: Summe FZ: | N19: 0.31944444
A20: Pause | B20: 0.48611111 | C20: 0.5 | D20: =C20-B20 -> 0.013888889 | E20: =IF(AND($C19<>"",$B20<>"",$C19>$B20),"Übers.","") | F20: FZ | G20: 0.48611111 | H20: 0.52083333 | I20: =H20-G20 -> 0.034722222 | J20: =IF(AND($H19<>"",$G20<>"",$H19>$G20),"Übers.","") | L20: Summe AE: | N20: 0.15972222
A21: FZ | B21: 0.50694444 | C21: 0.58333333 | D21: =C21-B21 -> 0.076388889 | E21: =IF(AND($C20<>"",$B21<>"",$C20>$B21),"Übers.","") | I21: =H21-G21 -> 0 | J21: =IF(AND($H20<>"",$G21<>"",$H20>$G21),"Übers.","")
A22: EA | B22: 0.58333333 | C22: 0.625 | D22: =C22-B22 -> 0.041666667 | E22: =IF(AND($C21<>"",$B22<>"",$C21>$B22),"Übers.","") | I22: =H22-G22 -> 0 | J22: =IF(AND($H21<>"",$G22<>"",$H21>$G22),"Übers.","")
D23: =C23-B23 -> 0 | E23: =IF(AND($C22<>"",$B23<>"",$C22>$B23),"Übers.","") | F23: EA | G23: 0.70833333 | H23: 0.75 | I23: =H23-G23 -> 0.041666667 | J23: =IF(AND($H22<>"",$G23<>"",$H22>$G23),"Übers.","") | L23: Übers. | M23: ACHTUNG! Es gibt Überschneidungen
D24: =C24-B24 -> 0 | E24: =IF(AND($C23<>"",$B24<>"",$C23>$B24),"Übers.","") | I24: =H24-G24 -> 0 | J24: =IF(AND($H23<>"",$G24<>"",$H23>$G24),"Übers.","") | L24: PF | M24: ACHTUNG! PAUSE fehlt
D25: =C25-B25 -> 0 | E25: =IF(AND($C24<>"",$B25<>"",$C24>$B25),"Übers.","") | I25: =H25-G25 -> 0 | J25: =IF(AND($H24<>"",$G25<>"",$H24>$G25),"Übers.","")
B26: =SUMIF(A18:A25,Tabelle1!A6,D18:D25) -> 0.15277778 | C26: =SUMIF(A18:A25,Tabelle1!A8,D18:D25) -> 0.076388889 | D26: =SUMIF(A18:A25,"<>Pause",D18:D25)-SUMIF(A18:A25,"bez. Pause",D18:D25) -> 0.29166667 | E26: =IF(SUM($D$18:$D$25)>TIME(6,0,0),IF(SUMIFS($D$18:$D$25,$A$18:$A$25,"Pause")+SUMIFS($D$18:$D$25,$A$18:$A$25,"bez. Pause")<TIME(0,30,0),"PF",""),"") -> PF | G26: =SUMIF(F18:F25,Tabelle1!A6,I18:I25) -> 0.15277778 | H26: =SUMIF(F18:F25,Tabelle1!A8,I18:I25) -> 0.034722222 | I26: =SUMIF(F18:F25,"<>Pause",I18:I25)-SUMIF(F18:F25,"bez. Pause",I18:I25) -> 0.25 | J26: =IF(SUM($I$18:$I$25)>TIME(6,0,0),IF(SUMIFS($I$18:$I$25,$F$18:$F$25,"Pause")+SUMIFS($I$18:$I$25,$F$18:$F$25,"bez. Pause")<TIME(0,30,0),"PF",""),"")

Sheet Beispiel ohne Fehlermeldung
A1: Stundenplan ab : | D1: 46266
A2: Schule: | D2: Muster Schule
A3: Name: | D3: Mustermann
A4: Schulbetriebspauschale: | E4: voll
A5: Montag | F5: Dienstag | K5: Mittwoch
A6: Tätigkeit | B6: Start | C6: Ende | D6: Stunden | F6: Tätigkeit | G6: Start | H6: Ende | I6: Stunden | K6: Tätigkeit | L6: Start | M6: Ende | N6: Stunden
A7: SA | B7: 0.32291667 | C7: 0.33333333 | D7: =C7-B7 -> 0.010416667 | F7: EA | G7: 0.30555556 | H7: 0.32638889 | I7: =H7-G7 -> 0.020833333 | K7: EA | L7: 0.30555556 | M7: 0.32638889 | N7: =M7-L7 -> 0.020833333
A8: SA | B8: 0.33333333 | C8: 0.48958333 | D8: =C8-B8 -> 0.15625 | E8: =IF(AND($C7<>"",$B8<>"",$C7>$B8),"Übers.","") | F8: SA | G8: 0.32638889 | H8: 0.40972222 | I8: =H8-G8 -> 0.083333333 | J8: =IF(AND($H7<>"",$G8<>"",$H7>$G8),"Übers.","") | K8: SA | L8: 0.32638889 | M8: 0.40972222 | N8: =M8-L8 -> 0.083333333
A9: EA | B9: 0.5 | C9: 0.51388889 | D9: =C9-B9 -> 0.013888889 | E9: =IF(AND($C8<>"",$B9<>"",$C8>$B9)," Übers.","") | F9: bez. Pause | G9: 0.40972222 | H9: 0.43055556 | I9: =H9-G9 -> 0.020833333 | J9: =IF(AND($H8<>"",$G9<>"",$H8>$G9),"Übers.","") | K9: bez. Pause | L9: 0.40972222 | M9: 0.43055556 | N9: =M9-L9 -> 0.020833333 | O9: =IF(AND($M8<>"",$L9<>"",$M8>$L9),"Übers.","")
A10: FZ | B10: 0.54166667 | C10: 0.58333333 | D10: =C10-B10 -> 0.041666667 | E10: =IF(AND($C9<>"",$B10<>"",$C9>$B10)," Übers.","") | F10: AE | G10: 0.43055556 | H10: 0.58333333 | I10: =H10-G10 -> 0.15277778 | K10: AE | L10: 0.43055556 | M10: 0.58333333 | N10: =M10-L10 -> 0.15277778 | O10: =IF(AND($M9<>"",$L10<>"",$M9>$L10),"Übers.","")
D11: =C11-B11 -> 0 | E11: =IF(AND($C10<>"",$B11<>"",$C10>$B11)," Übers.","") | I11: =H11-G11 -> 0 | J11: =IF(AND($H10<>"",$G11<>"",$H10>$G11),"Übers.","") | N11: =M11-L11 -> 0 | O11: =IF(AND($M10<>"",$L11<>"",$M10>$L11),"Übers.","")
D12: =C12-B12 -> 0 | E12: =IF(AND($C11<>"",$B12<>"",$C11>$B12)," Übers.","") | I12: =H12-G12 -> 0 | J12: =IF(AND($H11<>"",$G12<>"",$H11>$G12),"Übers.","") | N12: =M12-L12 -> 0 | O12: =IF(AND($M11<>"",$L12<>"",$M11>$L12),"Übers.","")
D13: =C13-B13 -> 0 | E13: =IF(AND($C12<>"",$B13<>"",$C12>$B13)," Übers.","") | I13: =H13-G13 -> 0 | J13: =IF(AND($H12<>"",$G13<>"",$H12>$G13),"Übers.","") | N13: =M13-L13 -> 0 | O13: =IF(AND($M12<>"",$L13<>"",$M12>$L13),"Übers.","")
D14: =C14-B14 -> 0 | E14: =IF(AND($C13<>"",$B14<>"",$C13>$B14)," Übers.","") | I14: =H14-G14 -> 0 | J14: =IF(AND($H13<>"",$G14<>"",$H13>$G14),"Übers.","") | N14: =M14-L14 -> 0 | O14: =IF(AND($M13<>"",$L14<>"",$M13>$L14),"Übers.","")
B15: =SUMIF(A7:A14,Tabelle1!A6,D7:D14) -> 0.16666667 | C15: =SUMIF(A7:A14,Tabelle1!A8,D7:D14) -> 0.041666667 | D15: =SUMIF(A7:A14,"<>Pause",D7:D14)-SUMIF(A7:A14,"bez. Pause",D7:D14) -> 0.22222222 | E15: =IF(SUM($D$7:$D$14)>TIME(6,0,0),IF(SUMIFS($D$7:$D$14,$A$7:$A$14,"Pause")+SUMIFS($D$7:$D$14,$A$7:$A$14,"bez. Pause")<TIME(0,30,0),"PF",""),"") | G15: =SUMIF(F7:F14,Tabelle1!A6,I7:I14) -> 0.083333333 | H15: =SUMIF(F7:F14,Tabelle1!A8,I7:I14) -> 0 | I15: =SUMIF(F7:F14,"<>Pause",I7:I14)-SUMIF(F7:F14,"bez. Pause",I7:I14) -> 0.25694444 | J15: =IF(SUM($I$7:$I$14)>TIME(6,0,0),IF(SUMIFS($I$7:$I$14,$F$7:$F$14,"Pause")+SUMIFS($I$7:$I$14,$F$7:$F$14,"bez. Pause")<TIME(0,30,0),"PF",""),"") | L15: =SUMIF(K7:K14,Tabelle1!A6,N7:N14) -> 0.083333333 | M15: =SUMIF(K7:K14,Tabelle1!A8,N7:N14) -> 0 | N15: =SUMIF(K7:K14,"<>Pause",N7:N14)-SUMIF(K7:K14,"bez. Pause",N7:N14) -> 0.25694444 | O15: =IF(SUM($N$7:$N$14)>TIME(6,0,0),IF(SUMIFS($N$7:$N$14,$K$7:$K$14,"Pause")+SUMIFS($N$7:$N$14,$K$7:$K$14,"bez. Pause")<TIME(0,30,0),"PF",""),"")
A16: Donnerstag | F16: Freitag
A17: Tätigkeit | B17: Start | C17: Ende | D17: Stunden | F17: Tätigkeit | G17: Start | H17: Ende | I17: Stunden | L17: Summe SA: | N17: 0.75 | O17: =IF(MOD(N17*48,1)<>0,"nur volle oder halbe Stunden bitte anpassen","")
A18: EA | B18: 0.3125 | C18: 0.33333333 | D18: =C18-B18 -> 0.020833333 | F18: SA | G18: 0.3125 | H18: 0.33333333 | I18: =H18-G18 -> 0.020833333 | L18: Summe EA: | N18: 0.11111111 | O18: =IF(N18 > N17*0.2, "zu viele EA eingetragen", "OK") -> OK
A19: SA | B19: 0.33333333 | C19: 0.48611111 | D19: =C19-B19 -> 0.15277778 | E19: =IF(AND($C18<>"",$B19<>"",$C18>$B19),"Übers.","") | F19: SA | G19: 0.33333333 | H19: 0.47916667 | I19: =H19-G19 -> 0.14583333 | J19: =IF(AND($H18<>"",$G19<>"",$H18>$G19),"Übers.","") | L19: Summe FZ: | N19: 0.15277778
A20: Pause | B20: 0.48611111 | C20: 0.50694444 | D20: =C20-B20 -> 0.020833333 | E20: =IF(AND($C19<>"",$B20<>"",$C19>$B20),"Übers.","") | F20: FZ | G20: 0.48611111 | H20: 0.52083333 | I20: =H20-G20 -> 0.034722222 | J20: =IF(AND($H19<>"",$G20<>"",$H19>$G20),"Übers.","") | L20: Summe AE: | N20: 0.30555556
A21: FZ | B21: 0.50694444 | C21: 0.58333333 | D21: =C21-B21 -> 0.076388889 | E21: =IF(AND($C20<>"",$B21<>"",$C20>$B21),"Übers.","") | I21: =H21-G21 -> 0 | J21: =IF(AND($H20<>"",$G21<>"",$H20>$G21),"Übers.","")
A22: SA | B22: 0.58333333 | C22: 0.59722222 | D22: =C22-B22 -> 0.013888889 | E22: =IF(AND($C21<>"",$B22<>"",$C21>$B22),"Übers.","") | I22: =H22-G22 -> 0 | J22: =IF(AND($H21<>"",$G22<>"",$H21>$G22),"Übers.","")
D23: =C23-B23 -> 0 | E23: =IF(AND($C22<>"",$B23<>"",$C22>$B23),"Übers.","") | F23: EA | G23: 0.70833333 | H23: 0.75 | I23: =H23-G23 -> 0.041666667 | J23: =IF(AND($H22<>"",$G23<>"",$H22>$G23),"Übers.","") | L23: Übers. | M23: ACHTUNG! Es gibt Überschneidungen
D24: =C24-B24 -> 0 | E24: =IF(AND($C23<>"",$B24<>"",$C23>$B24),"Übers.","") | I24: =H24-G24 -> 0 | J24: =IF(AND($H23<>"",$G24<>"",$H23>$G24),"Übers.","") | L24: PF | M24: ACHTUNG! PAUSE fehlt
D25: =C25-B25 -> 0 | E25: =IF(AND($C24<>"",$B25<>"",$C24>$B25),"Übers.","") | I25: =H25-G25 -> 0 | J25: =IF(AND($H24<>"",$G25<>"",$H24>$G25),"Übers.","")
B26: =SUMIF(A18:A25,Tabelle1!A6,D18:D25) -> 0.16666667 | C26: =SUMIF(A18:A25,Tabelle1!A8,D18:D25) -> 0.076388889 | D26: =SUMIF(A18:A25,"<>Pause",D18:D25)-SUMIF(A18:A25,"bez. Pause",D18:D25) -> 0.26388889 | G26: =SUMIF(F18:F25,Tabelle1!A6,I18:I25) -> 0.16666667 | H26: =SUMIF(F18:F25,Tabelle1!A8,I18:I25) -> 0.034722222 | I26: =SUMIF(F18:F25,"<>Pause",I18:I25)-SUMIF(F18:F25,"bez. Pause",I18:I25) -> 0.24305556 | J26: =IF(SUM($I$18:$I$25)>TIME(6,0,0),IF(SUMIFS($I$18:$I$25,$F$18:$F$25,"Pause")+SUMIFS($I$18:$I$25,$F$18:$F$25,"bez. Pause")<TIME(0,30,0),"PF",""),"")

Sheet Tabelle1
A4: Spalte1 | C4: Spalte1
A6: SA | C6: voll
A7: EA | C7: halb
A8: FZ | C8: keine
A9: AE
A10: bez. Pause
A11: Pause
B14: voll
B15: halb
B16: keine
A24: Passwort saf
